BEGIN:VCALENDAR
VERSION:2.0
PRODID:-//Comité des fêtes de Méteren - ECPv6.8.3//NONSGML v1.0//EN
CALSCALE:GREGORIAN
METHOD:PUBLISH
X-WR-CALNAME:Comité des fêtes de Méteren
X-ORIGINAL-URL:https://comitefetesmeteren.fr
X-WR-CALDESC:Évènements pour Comité des fêtes de Méteren
REFRESH-INTERVAL;VALUE=DURATION:PT1H
X-Robots-Tag:noindex
X-PUBLISHED-TTL:PT1H
BEGIN:VTIMEZONE
TZID:Europe/Paris
BEGIN:DAYLIGHT
TZOFFSETFROM:+0100
TZOFFSETTO:+0200
TZNAME:CEST
DTSTART:20180325T010000
END:DAYLIGHT
BEGIN:STANDARD
TZOFFSETFROM:+0200
TZOFFSETTO:+0100
TZNAME:CET
DTSTART:20181028T010000
END:STANDARD
END:VTIMEZONE
BEGIN:VEVENT
DTSTART;TZID=Europe/Paris:20181205T143000
DTEND;TZID=Europe/Paris:20181205T163000
DTSTAMP:20260420T041429
CREATED:20181118T180838Z
LAST-MODIFIED:20181118T185221Z
UID:1243-1544020200-1544027400@comitefetesmeteren.fr
SUMMARY:Saint Nicolas 2018
DESCRIPTION:Le comité des fêtes organise une rencontre avec Saint Nicolas le mercredi 05 décembre 2018. \nAvant la visite de Saint Nicolas\, les enfants du village sont conviés à un superbe spectacle  » L’école de magie » spectacle interactif gratuit animés par Steven MAGIE et Danou le  CLOWN. \nCe spectacle sera suivi d’un goûter pour les petits  \nL’ouverture des portes s’effectuera à partir de 14h00 à la salle des fêtes de Méteren. \nA très bientôt.
URL:https://comitefetesmeteren.fr/index.php/event/saint-nicolas-2018/
CATEGORIES:Saint nicolas
ATTACH;FMTTYPE=image/jpeg:https://comitefetesmeteren.fr/wp-content/uploads/2018/11/Lécole-de-la-magie.jpg
END:VEVENT
END:VCALENDAR