BEGIN:VCALENDAR
VERSION:2.0
PRODID:-//Comité des fêtes de Méteren - ECPv6.8.3//NONSGML v1.0//EN
CALSCALE:GREGORIAN
METHOD:PUBLISH
X-WR-CALNAME:Comité des fêtes de Méteren
X-ORIGINAL-URL:https://comitefetesmeteren.fr
X-WR-CALDESC:Évènements pour Comité des fêtes de Méteren
REFRESH-INTERVAL;VALUE=DURATION:PT1H
X-Robots-Tag:noindex
X-PUBLISHED-TTL:PT1H
BEGIN:VTIMEZONE
TZID:Europe/Paris
BEGIN:DAYLIGHT
TZOFFSETFROM:+0100
TZOFFSETTO:+0200
TZNAME:CEST
DTSTART:20180325T010000
END:DAYLIGHT
BEGIN:STANDARD
TZOFFSETFROM:+0200
TZOFFSETTO:+0100
TZNAME:CET
DTSTART:20181028T010000
END:STANDARD
END:VTIMEZONE
BEGIN:VEVENT
DTSTART;TZID=Europe/Paris:20181207T190000
DTEND;TZID=Europe/Paris:20181207T233000
DTSTAMP:20260420T041429
CREATED:20181121T174115Z
LAST-MODIFIED:20181121T174115Z
UID:1254-1544209200-1544225400@comitefetesmeteren.fr
SUMMARY:Téléthon 2018
DESCRIPTION:Le comité des fêtes organise un repas au profit du Téléthon 2018. \nCe dernier se déroule le 07 décembre 2018 à 19h00 à la salle des fêtes de Méteren.  \nLe menu est à 13 euros : une assiette anglaise avec fromage et dessert. \nL’animation musicale est assurée par l’harmonie Municipale de Méteren\, fidèle de cet événement depuis des années. \nLors de ce repas\, l’association  » Courir au Mont » effectuera des ventes de cartes au profit du téléthon \nLes réservations sont souhaitées avant le 2 décembre 2018 à l’aide du formulaire (mis en boite aux lettres) à déposer en mairie.  \nA très bientôt
URL:https://comitefetesmeteren.fr/index.php/event/telethon-2018-2/
LOCATION:Salle des fêtes\, rue nationale\, Méteren\, 59270\, France
CATEGORIES:Téléthon
ATTACH;FMTTYPE=image/jpeg:https://comitefetesmeteren.fr/wp-content/uploads/2018/11/télethon.jpg
END:VEVENT
END:VCALENDAR