BEGIN:VCALENDAR
VERSION:2.0
PRODID:-//Comité des fêtes de Méteren - ECPv6.8.3//NONSGML v1.0//EN
CALSCALE:GREGORIAN
METHOD:PUBLISH
X-ORIGINAL-URL:https://comitefetesmeteren.fr
X-WR-CALDESC:Évènements pour Comité des fêtes de Méteren
REFRESH-INTERVAL;VALUE=DURATION:PT1H
X-Robots-Tag:noindex
X-PUBLISHED-TTL:PT1H
BEGIN:VTIMEZONE
TZID:Europe/Paris
BEGIN:DAYLIGHT
TZOFFSETFROM:+0100
TZOFFSETTO:+0200
TZNAME:CEST
DTSTART:20190331T010000
END:DAYLIGHT
BEGIN:STANDARD
TZOFFSETFROM:+0200
TZOFFSETTO:+0100
TZNAME:CET
DTSTART:20191027T010000
END:STANDARD
END:VTIMEZONE
BEGIN:VEVENT
DTSTART;TZID=Europe/Paris:20190112T143000
DTEND;TZID=Europe/Paris:20190112T180000
DTSTAMP:20260420T024702
CREATED:20181215T180648Z
LAST-MODIFIED:20181215T180648Z
UID:1437-1547303400-1547316000@comitefetesmeteren.fr
SUMMARY:Galette des rois 2019
DESCRIPTION:Le samedi 12 janvier 2019 a partir de 14h30 se tiendra a la salle des fêtes de meteren un après-midi festif propose aux seniors de 65 ans et plus. \nA cette occasion\, le dégustation de la galette promet d’être rythmée par l’animation de Vincent Geloen! \nPour participer a cette après-midi musical\, nous vous invitons a remplir le coupon réponse déposée dans vos boites aux lettres.\nLes personnes ne possédant pas de moyens de transport pourront s’ils le désirent\, être pris et reconduit a leur domicile. Si c’est le cas\, nous vous invitons a cocher la case prévue a cet effet.\nPour vous accueillir dans les meilleures conditions\, nous vous serions reconnaissants de bien vouloir nous retourner ce coupon avant le 31 décembre 2018 \nEn espérant vous compter par nous pour ce moment de détente et de convivialité.
URL:https://comitefetesmeteren.fr/index.php/event/galette-des-rois-2019/
ATTACH;FMTTYPE=image/jpeg:https://comitefetesmeteren.fr/wp-content/uploads/2018/12/galettedesrois.jpg
END:VEVENT
END:VCALENDAR