BEGIN:VCALENDAR
VERSION:2.0
PRODID:-//Comité des fêtes de Méteren - ECPv6.8.3//NONSGML v1.0//EN
CALSCALE:GREGORIAN
METHOD:PUBLISH
X-ORIGINAL-URL:https://comitefetesmeteren.fr
X-WR-CALDESC:Évènements pour Comité des fêtes de Méteren
REFRESH-INTERVAL;VALUE=DURATION:PT1H
X-Robots-Tag:noindex
X-PUBLISHED-TTL:PT1H
BEGIN:VTIMEZONE
TZID:Europe/Paris
BEGIN:DAYLIGHT
TZOFFSETFROM:+0100
TZOFFSETTO:+0200
TZNAME:CEST
DTSTART:20250330T010000
END:DAYLIGHT
BEGIN:STANDARD
TZOFFSETFROM:+0200
TZOFFSETTO:+0100
TZNAME:CET
DTSTART:20251026T010000
END:STANDARD
END:VTIMEZONE
BEGIN:VEVENT
DTSTART;VALUE=DATE:20250720
DTEND;VALUE=DATE:20250721
DTSTAMP:20260422T000437
CREATED:20250706T125256Z
LAST-MODIFIED:20250706T125256Z
UID:3577-1752969600-1753055999@comitefetesmeteren.fr
SUMMARY:Brocante 2025
DESCRIPTION:Inscriptions – Brocante 2025 \n \n\n\nNe manquez pas notre traditionnelle brocante qui se tiendra le dimanche 20 juillet dans les rues de Méteren ! \n\n\n Possibilité de réserver 6\, 9 ou 12 mètres au tarif de 2€/mètre.\n \n\n\nÀ vos agendas !\nInscriptions à la Mairie de Méteren le :\n Samedi 21 juin de 9h à 12h (uniquement pour les Méterennois)\n Mercredi 25 juin de 14h30 à 17h\n Samedi 28 juin de 9h à 12h\n\n \nPermanence exceptionnelle le samedi 12 juillet de 9h à 12h. \n \n\nN’hésitez pas à partager l’info autour de vous !
URL:https://comitefetesmeteren.fr/index.php/event/brocante-2025/
LOCATION:Place\, place cesar herremann\, méteren\, 59270\, France
CATEGORIES:brocante
ATTACH;FMTTYPE=application/pdf:https://comitefetesmeteren.fr/wp-content/uploads/2025/07/Brocante-2025-1.pdf
END:VEVENT
END:VCALENDAR