BEGIN:VCALENDAR
VERSION:2.0
PRODID:-//Comité des fêtes de Méteren - ECPv6.8.3//NONSGML v1.0//EN
CALSCALE:GREGORIAN
METHOD:PUBLISH
X-ORIGINAL-URL:https://comitefetesmeteren.fr
X-WR-CALDESC:Évènements pour Comité des fêtes de Méteren
REFRESH-INTERVAL;VALUE=DURATION:PT1H
X-Robots-Tag:noindex
X-PUBLISHED-TTL:PT1H
BEGIN:VTIMEZONE
TZID:Europe/Paris
BEGIN:DAYLIGHT
TZOFFSETFROM:+0100
TZOFFSETTO:+0200
TZNAME:CEST
DTSTART:20190331T010000
END:DAYLIGHT
BEGIN:STANDARD
TZOFFSETFROM:+0200
TZOFFSETTO:+0100
TZNAME:CET
DTSTART:20191027T010000
END:STANDARD
END:VTIMEZONE
BEGIN:VEVENT
DTSTART;TZID=Europe/Paris:20191129T180000
DTEND;TZID=Europe/Paris:20191201T190000
DTSTAMP:20260426T045056
CREATED:20191030T192937Z
LAST-MODIFIED:20191030T192937Z
UID:2073-1575050400-1575226800@comitefetesmeteren.fr
SUMMARY:Vente de sapins : marche de noel 2019
DESCRIPTION: A l’occasion de notre Marché de Noël\,   le comité des fêtes organise une vente de sapins « Nordmann »en association avec  les serres Darrou de Godewaersvelde.  \nTrois tailles sont disponibles : moins de 150 cm ( 20 euros)\, entre 150 et 250cm (27 euros) et plus de 250 cm (34 euros). \n Un formulaire de pré-commande est disponible sur le site ( voir en bas de page).  Il suffit de le remplir\, de donner le règlement par chèque en mairie avant le 28 novembre 2018. Aucune commande sans règlement ne sera prise en compte. \nVous pouvez également utiliser le flyer reçu en boite aux lettres et le déposer avec votre règlement par chèque en mairie de Méteren. \nVotre sapin sera disponible à l’occasion de notre marché de noël sur la place du village du vendredi 29 novembre 2019 18h00 au dimanche 01 décembre 2019 19h00 \nIl vous est toujours possible de venir l’acheter directement à l’occasion de cet événement. \n\n 
URL:https://comitefetesmeteren.fr/index.php/event/vente-de-sapins-marche-de-noel-2019/
CATEGORIES:Marché de noël
ATTACH;FMTTYPE=image/jpeg:https://comitefetesmeteren.fr/wp-content/uploads/2019/10/th-1.jpg
END:VEVENT
END:VCALENDAR